BEGIN:VCALENDAR
VERSION:2.0
PRODID:-//eventon.com NONSGML v1.0//EN
CALSCALE:GREGORIAN
METHOD:PUBLISH
BEGIN:VEVENT
UID:69e5aa4b60d18
DTSTAMP:20260420T042339Z
DTSTART:20260513T073000Z
DTEND:20260513T140000Z
LOCATION:IWU Magdeburg Maxim-Gorki-Str. 13\,  Magdeburg\,  39108
SUMMARY:Das Bergrecht
DESCRIPTION:Der Abbau von Rohstoffen hat vielfältige Auswirkungen auf sein
 e Umwelt. Am markantesten sind oft die Folgen für die Natur in der Umgebun
 g oder das Grundwasser und die Gewässer. Sie erhalten einen Einblick in di
 e rechtlichen Grundlagen eines bergbaulichen Betriebs (Bergbauberechtigunge
 n\,  Betriebspläne) und die materiellen Anforderungen an die Zulassung. Di
 ese Maßstäbe[..]\nhttps://iwu-ev.de/seminar/das-bergrecht/
URL:https://iwu-ev.de/seminar/das-bergrecht/
END:VEVENT
END:VCALENDAR